BEGIN:VCALENDAR
PRODID:-//Det Danske Spejderkorps//NONSGML Gruppeweb//EN
VERSION:2.0
CALSCALE:GREGORIAN
X-PUBLISHED-TTL:PT1H
X-WR-CALNAME:Einars Disciple
METHOD:PUBLISH
BEGIN:VEVENT
UID:gruppeweb.dk:1813:event:266
DTSTAMP:20260421T094026Z
LAST-MODIFIED:20260212T075433Z
SUMMARY:Bestyrelsesmøde
DESCRIPTION:01 Nyt fra BL og GL\nBestyrelseslederen og gruppeledelse giver 
 opdatering på nyt siden sidst.\n\n02 SL26\nKeld giver en orientering omkr
 ing Spejdernes Lejr 2026\n\n03 Bestyrelsesemner Vi får en opfølgning på
  bestyrelsesemner\n\n04 Generalforsamling Den 24. februar afholdes vores g
 eneralforsamling\n\n05 Opdatering på udvalgsarbejde Opdatering fra udvalg
 sarbejdet siden sidste  \nbestyrelsesmøde. Hvert udvalg giver en kort sta
 tus på arbejdet\, og  \npræsenterer eventuelle beslutningspunkter til be
 styrelsen\n\n06 Eventuelt\n\n07 Afrunding\n\n
URL:https://www.ravnehus.dk/begivenhed/bestyrelsesmoede
DTSTART:20260106T180000Z
DTEND:20260106T200000Z
LOCATION:Ravnehus Spejderne\, Poppel Alle 14\, Hareskov\, 3500 Værløse
END:VEVENT
BEGIN:VEVENT
UID:gruppeweb.dk:1813:event:273
DTSTAMP:20260421T094026Z
LAST-MODIFIED:20260212T075416Z
SUMMARY:Grenledermøde
DESCRIPTION: Kære grenledere\,\nHermed dagsorden til mødet tirsdag den 2
 1. oktober fra 19.20-21.00 i det  \nrøde hus. Hvis I ikke selv kan deltag
 e\, er I meget velkomne til at sende en  \n“ven” fra grenen. \n\nDags
 orden\n\n 1) Status fra grenene\n    \n 2) Nyt fra gruppeledelsen\n    \n 
 3) Optakt til SL26\n    \n 4) Udviklingsplan\n    \n 5) Gruppeweekend\n   
  \n 6) Kurser\n    \n 7) Evt.\n    \n\n*\n*\n\nVi glæder os til at se jer
 . \n\n*\n*\n\nVH gruppeledelsen\n\n\nDemsig\, Oline og Trine\n\n
URL:https://www.ravnehus.dk/begivenhed/grenledermoede-3
DTSTART:20251021T173000Z
DTEND:20251021T190000Z
LOCATION:Ravnehus Spejderne\, Poppel Alle 14\, Hareskov\, 3500 Værløse
END:VEVENT
BEGIN:VEVENT
UID:gruppeweb.dk:1813:event:280
DTSTAMP:20260421T094026Z
LAST-MODIFIED:20260212T075403Z
SUMMARY:Bestyrelsesmøde (Vigtigt - ny dato)
DESCRIPTION:Hermed invitation til årets sidste bestyrelsesmøde. Der er ta
 le om en ny  \ndato\, så sørg for at få det booket rigtigt i din egen k
 alender og brug  \nvenligst tilmedingsfunktionen. Vi arrangerer fælles a
 ftensmad før mødet:\n\n17-18 madlavning - søger frivillige/madører til
  at hjælpe i køkkenet (jeg  \nskal nok købe ind)\n\n18-19 fællesspisni
 ng\n\n19-21 bestyrelsesmøde\n\nForslag og punkter til agendaen tilsendes 
 forperson@ravnehus.dk senest den  \n8/10/2025.\n\n\nAgenda udsendes en uge
 s tid før mødet. \n\n\n
URL:https://www.ravnehus.dk/begivenhed/bestyrelsesmoede-vigtigt-ny-dato
DTSTART:20251028T180000Z
DTEND:20251028T200000Z
LOCATION:Ravnehus Spejderne\, Poppel Alle 14\, Hareskov\, 3500 Værløse
END:VEVENT
BEGIN:VEVENT
UID:gruppeweb.dk:1813:event:287
DTSTAMP:20260421T094026Z
LAST-MODIFIED:20260317T185257Z
SUMMARY:Den vandrende Ravn
DESCRIPTION:Hop I vandrestøvlerne og tag med på en eventyrlig vandretur.\
 n'Den Vandrende Ravn' er Ravnehus Spejdernes årlige vandretur for alle  \
 ngruppens spejdere og familier. Du har mulighed for at komme med på en tu
 r\,  \nsom passer præcist til dig. \n\nTurene er 10\, 20\, 30 og 50 km. 
 Hvert hold vil blive ledet af en 'stifinder'\,  \nså det eneste\, du skal
  tænke på\, er at nyde naturen\, gåturen og  \nsamværet. Du bestemmer 
 selv hvilken tur\, som passer bedst til dig. Har du  \nbrug for en madpakk
 e undervejs\, så husk at smøre den hjemmefra. \n\nSå tag familien unde
 r armen\, rygsækken på ryggen og tag med på tur.\n\nProgram\n\n * 8:00 
 - Flaghejsning og fælles morgenmad\n   \n * 8:15 - Afgang for 50 km\n   \
 n * 9:00 - Afgang på de øvrige ruter\n   \n\nVi forventer\, at holdene e
 r tilbage ca. således:\n\n\n * 10 km: kl. 12:00\n   \n * 20 km: kl. 13:30
 \n   \n * 30 km: kl. 16:30\n   \n * 50 km: kl. 19:30\n   \n\n
URL:https://www.ravnehus.dk/begivenhed/den-vandrende-ravn-4
DTSTART:20260621T060000Z
DTEND:20260621T060000Z
LOCATION:Ravnehus Spejderne\, Poppel Alle 14\, Hareskov\, 3500 Værløse
END:VEVENT
BEGIN:VEVENT
UID:gruppeweb.dk:1813:event:292
DTSTAMP:20260421T094026Z
LAST-MODIFIED:20260212T075341Z
SUMMARY:Generalforsamling 2026
DESCRIPTION:Den årlige generalforsamling er en vigtig begivenhed i en fore
 ning som  \nRavnehus Spejderne. Det er her du som medlem og forældre får
  mulighed for  \nat få en status på foreningens arbejde\, økonomi og pr
 ioriteringer. Det er  \nsamtidig her vi sætter vores hold af frivillige -
  vores bestyrelse.  \nBestyrelsen varetager en vigtig rolle med at skabe d
 e bedst mulige rammer for  \ndet spejderarbejde som afvikles hver eneste u
 ge til glæde og gavn for en  \nmasse lokale børn og unge. *Vi forventer
  derfor også\, at du som medlem  \neller forældre deltager i generalfors
 amlingen. \n*Vi har allerede et stærkt hold af frivillige\, som er klar 
 på at tage en  \ntørn mere - *men vi har også brug for nye kræfter. M
 ere konkret så skal  \nvi bruge to kasserassistenter.* Denne rolle best
 år i at hjælpe med af  \nudbetale refusion for ledernes løbende udlæg 
 (sker gennem vores  \nmedlemssystem og banken)\, søge kommunale midler og
  tilskud\, mv. Vi har  \narbejdet løbende med disse processer\, så opgav
 en er både konkret\,  \noverkommelig og kræver meget begrænse deltagels
 e i møder mv. Samtidig vil  \ndu naturligvis få en grundig overlevering 
 fra de to tidligere  \nkasserassistenter. Kasserassistenterne spiller en a
 fgørende rolle i få en  \nforeningen som vores til at fungere godt effek
 tivt for vores frivillige leder  \n- det er derfor vigtigt\, at vi får be
 sat disse to poster. \n\nEr du nysgerrig på at høre mere om opgaven\, o
 g/eller klar til at byde ind  \npå den\, så ræk venligst ud. Kan du ikk
 e se dig selv som kassererassistent\,  \nmen skulle du alligevel have lyst
  til at bidrage på anden vis\, så hører vi  \nogså meget gerne fra dig
  - vi har altid brug for frivillige\, som på den ene  \neller anden måde
  har mod på at engagere sig i spejderarbejdet. \n\nDen officielle indkal
 delse og dagsorden findes som vedhæftet dokument. \n\n\n
URL:https://www.ravnehus.dk/begivenhed/generalforsamling-2026
DTSTART:20260224T183000Z
DTEND:20260224T200000Z
LOCATION:Ravnehus Spejderne\, Poppel Alle 14\, Hareskov\, 3500 Værløse
END:VEVENT
BEGIN:VEVENT
UID:gruppeweb.dk:1813:event:296
DTSTAMP:20260421T094026Z
LAST-MODIFIED:20260309T130745Z
SUMMARY:Bestyrelsesmøde
DESCRIPTION: 1) Nyt fra BL og GL Bestyrelseslederen og gruppeledelse giver 
 opdatering på\n    nyt siden sidst.\n    \n 2) Bestyrelsesemner Vi får e
 n opfølgning på bestyrelsesemner\n    \n 3)  Gennemgang og opfølgning 
 på Generalforsamling og referat - herunder\n    nye personer.\n    \n 4) 
 Opdatering på udvalgsarbejde Opdatering fra udvalgsarbejdet siden sidste\
 n    bestyrelsesmøde. Hvert udvalg giver en kort status på arbejdet\, og
 \n    præsenterer eventuelle beslutningspunkter til bestyrelsen\n    \n 5
 ) Eventuelt\n    \n 6) Afrunding\n    \n\n
URL:https://www.ravnehus.dk/begivenhed/bestyrelsesmoede-0
DTSTART:20260310T180000Z
DTEND:20260310T200000Z
LOCATION:Ravnehus Spejderne\, Poppel Alle 14\, Hareskov\, 3500 Værløse
END:VEVENT
BEGIN:VEVENT
UID:gruppeweb.dk:1813:event:302
DTSTAMP:20260421T094026Z
LAST-MODIFIED:20260320T104311Z
SUMMARY:Bestyrelsesmøde
DESCRIPTION: 1) Nyt fra BL og GL Bestyrelseslederen og gruppeledelse giver 
 opdatering på\n    nyt siden sidst.\n    \n 2) Spejdernes Lejr - opdateri
 ng omkring spejdernes lejr\n    \n 3) Bestyrelsesemner Vi får en opfølgn
 ing på bestyrelsesemner\n    \n 4)  Gennemgang og opfølgning på Genera
 lforsamling og referat - herunder\n    nye personer.\n    \n 5) Opdatering
  på udvalgsarbejde Opdatering fra udvalgsarbejdet siden sidste\n    besty
 relsesmøde. Hvert udvalg giver en kort status på arbejdet\, og\n    præ
 senterer eventuelle beslutningspunkter til bestyrelsen\n    \n 6) Ny møde
 række for bestyrelsesmøder i 2026 - 2027\n    \n 7) Eventuelt\n    \n 8)
  Afrunding\n    \n\n
URL:https://www.ravnehus.dk/begivenhed/bestyrelsesmoede-1
DTSTART:20260407T170000Z
DTEND:20260407T190000Z
LOCATION:Ravnehus Spejderne\, Poppel Alle 14\, Hareskov\, 3500 Værløse
END:VEVENT
BEGIN:VEVENT
UID:gruppeweb.dk:1813:event:285
DTSTAMP:20260421T094026Z
LAST-MODIFIED:20260225T205941Z
SUMMARY:Spejdernes lejr 2026 (forhåndstilmelding)
DESCRIPTION:Så er det tid til at vi skal i gang med at planlægge sommerle
 jren i 2026.  \nDa vi har brug for at kende deltagerantallet for at få de
 t hele til at  \nhænge sammen\, skal I allerede tilmelde jer nu. \n\n\nV
 i skal på spejdernes lejr fra lørdag den 18. juli til søndag den 26. ju
 li  \n2026\, som afholdes Hedeland Naturpark (Sjælland).\n\n\nSpejdernes 
 Lejr er Nordens største spejderlejr\, der afholdes cirka hvert  \nfjerde 
 år for spejdere fra hele verden. Lejren er en stor begivenhed med op  \nm
 od 30.000 deltagere og 50.000 gæster\, der mødes for at have det sjovt\,
   \nlære og styrke fællesskabet gennem aktiviteter som friluftsliv\,  \n
 udfordringer og mødet med internationale spejdere.\n\n\nFor minierne er l
 ængden af lejren ikke helt fastlagt endnu\, men vi tænker\,  \nat den er
  lidt kortere end den fulde lejr\, men det vender vi tilbage med  \nsnares
 t muligt.  \n\n\nDet koster 500 kr. at tilmelde sig nu - tilmeldingen er
  ikke bindende\, men  \nbeløbet refunderes ikke. Den endelige pris inklus
 iv de 500 kr\, som skal  \nbetales nu\, vil være maksimum 2500 kr. Resten
  betales i februar måned.\n\n\nVær opmærksom på at muligheden for forh
 åndstilmelding lukker d. 9/1 2026\n\n\nVi glæder os helt vildt til en ug
 e i spejdernes tegn\, hvor vi skal hygge os\,  \nudfordre hinanden og ikke
  mindst have det rigtigt sjovt sammen med en masse  \nandre spejdere.\n\n\
 nHvis I har spørgsmål\, er I meget velkomne til at tage fat i Kennet  \n
 (kennet.bo.korsgaard@gmail.com) eller Trine (trine_korsgaard@hotmail.com)\
 n\n\nVenlig hilsen\n\n\nPlanlægningsgruppen for spejdernes lejr\n\nRavneh
 usspejderne\n\n
URL:https://www.ravnehus.dk/begivenhed/spejdernes-lejr-2026-forhaandstilmel
 ding
DTSTART:20260718T100000Z
DTEND:20260726T090000Z
LOCATION:Hedeland Naturpark
END:VEVENT
BEGIN:VEVENT
UID:gruppeweb.dk:1813:event:295
DTSTAMP:20260421T094026Z
LAST-MODIFIED:20260404T111040Z
SUMMARY:Spejdernes Lejr 2026 - Endelig tilmelding
DESCRIPTION:Kære spejdere\n\nSå er vi klar med den endelige tilmelding ti
 l årets sommerlejr for mini\,  \njunior\, trop\, klan og ledere.\n\nHvad 
 er SL\n\nSpejdernes Lejr (SL) er Nordens største spejderlejr\, der afhold
 es cirka  \nhvert fjerde år for spejdere fra hele verden. Lejren er en st
 or begivenhed  \nmed op mod 30.000 deltagere og 50.000 gæster\, der møde
 s for at have det  \nsjovt\, lære og styrke fællesskabet gennem aktivite
 ter som friluftsliv\,  \nudfordringer og mødet med internationale spejder
 e. Sl bliver i 2026 afholdt  \ni Hedeland ved Roskilde.\n\n\n*Hvornår*\n\
 nVi skal på spejdernes lejr fra lørdag den 18. juli til søndag den 26. 
 juli  \n2026\, som afholdes Hedeland Naturpark (Sjælland).\n\nMinierne st
 arter dog først lejren om søndag d. 19. juli og tager hjem igen  \ntorsd
 ag 23. juli.\n\n\n*Transport*\nTransport foregår sammen med andre grupper
  fra divisionen. Mere information  \ntilgår jer senere.\n\n*Pris*\n\nPris
 en for at deltage er afhængig af ens gren da minierne har en kortere  \nl
 ejr. Udover de 500 kr.\, som I allerede har betalt\, skal:\n\n* Minierne b
 etale yderligere 1.100 kr.\n\n* Andre spejdere betale yderligere 2.000 kr.
  \n\n/NB. prisen justeres automatisk når i vælger gren./\n\n\n*Andet*\n
 \nVi glæder os helt vildt til en uge i spejdernes tegn\, hvor vi skal hyg
 ge os\,  \nudfordre hinanden og ikke mindst have det rigtigt sjovt sammen 
 med en masse  \nandre spejdere.\n\n\nTilmeldingen er bindende og der gives
  ikke penge retur\, da Ravnehusspejderne  \nhæfter for deltagerbetalingen
  uanset.\n\nHvis I har spørgsmål\, er I meget velkomne til at tage fat i
  Kennet  \n(kennet.bo.korsgaard@gmail.com) eller Trine (trine_korsgaard@ho
 tmail.com)\n\n\nVenlig hilsen\n\n\nPlanlægningsgruppen for spejdernes lej
 r\n\nRavnehusspejderne\n\n
URL:https://www.ravnehus.dk/begivenhed/spejdernes-lejr-2026-endelig-tilmeld
 ing
DTSTART:20260718T160600Z
DTEND:20260726T160600Z
LOCATION:Ravnehus Spejderne\, Poppel Alle 14\, Hareskov\, 3500 Værløse
END:VEVENT
END:VCALENDAR
